BEGIN:VCALENDAR
PRODID:NingEventWidget-v1
VERSION:2.0
METHOD:PUBLISH
BEGIN:VEVENT
UID:4320450:Event:52502
DTSTAMP:20260425T143428Z
SUMMARY:Spirit of Philadelphia Early Thanksgiving Dinner Cruise
DESCRIPTION:Enjoy a delicious early afternoon Thanksgiving feast featu
 ring a mashed potato bar, green bean casserole, baked macaroni & chees
 e, roasted tom turkey, hickory smoked ham, rustic herb stuffing, and m
 uch more while viewing the beautiful Philadelphia skyline views as you
  sail along the Delaware River.\n\nFor more information visit http://p
 hillytodo.com/events/spirit-of-philadelphia-early-thanksgiving-dinner-
 cruise
DTSTART:20171123T200000Z
DTEND:20171123T220000Z
CATEGORIES:thanksgiving, dinner
LOCATION:Spirit of Philadelphia
WEBSITE:https://www.spiritcruises.com/philadelphia/cruises/holiday/tha
 nksgiving
URL:https://www.spiritcruises.com/philadelphia/cruises/holiday/thanksg
 iving
CONTACT:
ORGANIZER:
ATTACH;FMTTYPE="image/jpeg":http://storage.ning.com/topology/rest/1.0/
 file/get/3055010460?profile=original
ATTENDEE;ROLE=REQ-PARTICIPANT;PARTSTAT=ACCEPTED;RSVP=TRUE;CN="Bryan Ch
 an":http://phillytodo.com/profile/BryanChan
END:VEVENT
END:VCALENDAR
