BEGIN:VCALENDAR
PRODID:NingEventWidget-v1
VERSION:2.0
METHOD:PUBLISH
BEGIN:VEVENT
UID:4320450:Event:49765
DTSTAMP:20260425T133122Z
SUMMARY:Spirit of Philadelphia 2017 Father's Day
DESCRIPTION:Treat Dad to a relaxing day on the water and celebrate Fat
 her’s Day aboard the Spirit of Philadelphia. On Sunday, June 18th, s
 how Dad how much his hard work is appreciated with a memorable brunch 
 or dinner cruise along the Delaware River, featuring delicious buffet-
 style menus, musical entertainment provided by a DJ and interactive ga
 mes for the whole family to enjoy. Tickets for Father’s Day Cruises 
 begin at $54.90 for adults ($32.95 for children ages 3-12) and include
  breathtaking skyline views and access to the Sky Deck Lounge. Reserve
  your spot by June 6th and save 20% by using promo code DAD20 at check
 out. Spend Dad’s special day as a family and discover unique sights 
 of the city found only on the Spirit of Philadelphia.\n\nFor more info
 rmation visit http://phillytodo.com/events/spirit-of-philadelphia-2017
 -father-s-day
DTSTART:20170618T153000Z
DTEND:20170619T000000Z
CATEGORIES:family, day
LOCATION:Spirit of Philadelphia
WEBSITE:https://www.spiritcruises.com/philadelphia/cruises/holiday/fat
 hers-day
URL:https://www.spiritcruises.com/philadelphia/cruises/holiday/fathers
 -day
CONTACT:866-455-3866
ORGANIZER:Spirit of Philadelphia
ATTACH;FMTTYPE="image/jpeg":http://storage.ning.com/topology/rest/1.0/
 file/get/3055003347?profile=original
ATTENDEE;ROLE=REQ-PARTICIPANT;PARTSTAT=ACCEPTED;RSVP=TRUE;CN="Bryan Ch
 an":http://phillytodo.com/profile/BryanChan
END:VEVENT
END:VCALENDAR
