BEGIN:VCALENDAR
PRODID:NingEventWidget-v1
VERSION:2.0
METHOD:PUBLISH
BEGIN:VEVENT
UID:4320450:Event:25917
DTSTAMP:20260425T130715Z
SUMMARY:SPIN's 1st Annual Possibilities in the Park 5K
DESCRIPTION:Run, walk, or roll to benefit a life of possibilities!  J
 oin SPIN on Saturday, April 14th at 8 a.m. for its 1st Annual Possibil
 ities in the Park 5K, presented by Independence Blue Cross.  The 5K w
 ill benefit SPIN’s efforts to provide direct support, educational an
 d therapeutic services for individuals with intellectual disabilities,
  autism and developmental disabilities. An alternative to the 5K, part
 icipants are given the option to participate in a non-competitive one-
 mile walk. The course will take runners, walkers, and rollers through 
 the SPIN campus and surrounding neighborhood, and end at a family-frie
 ndly festival full of freebies, fun, food trucks, and games with event
  sponsors PhillyHealthWatch.com, Skinny Water, and MIX 106.1 FM.  For
  more information about SPIN’s 1st Annual Possibilities in the Park 
 5k or to pre-register online, visit www.spininc.org/5k\n\nFor more inf
 ormation visit http://phillytodo.com/events/spin-s-1st-annual-possibil
 ities-in-the-park-5k
DTSTART:20120414T040000Z
DTEND:20120415T035900Z
CATEGORIES:5k, benefit
LOCATION:Drummond Industrial Park
WEBSITE:http://www.spininc.org/5k
URL:http://www.spininc.org/5k
CONTACT:215-612-7512
ORGANIZER:
ATTACH;FMTTYPE="image/jpeg":http://storage.ning.com/topology/rest/1.0/
 file/get/3054958306?profile=original
ATTENDEE;ROLE=REQ-PARTICIPANT;PARTSTAT=ACCEPTED;RSVP=TRUE;CN="Lauren W
 enzel":http://phillytodo.com/profile/LaurenWenzel
END:VEVENT
END:VCALENDAR
