BEGIN:VCALENDAR
PRODID:NingEventWidget-v1
VERSION:2.0
METHOD:PUBLISH
BEGIN:VEVENT
UID:4320450:Event:33557
DTSTAMP:20260425T161825Z
SUMMARY:Spectrum After Dark featuring \"DJ Mixology\"
DESCRIPTION:Stop by Spectrum Grill every Saturday night starting at 10
 pm for Spectrum After Dark!Enjoy your favorite house and club music fr
 om \"DJ Mixology.\" Private booths, bottle service and specialty cockt
 ails are available all night long.Contact info@spectrumgrill.com to se
 t up your VIP Party or private booth.Free parking is available after 8
 :30pm.\n\nFor more information visit http://phillytodo.com/events/spec
 trum-after-dark-featuring-dj-mixology
DTSTART:20130811T020000Z
DTEND:20130811T060000Z
CATEGORIES:special, event
LOCATION:XFINITYLive! Philadelphia
WEBSITE:http://www.xfinitylive.com
URL:http://www.xfinitylive.com
CONTACT:215-609-1678
ORGANIZER;CN="Stepfanie McCaffrey":http://phillytodo.com/profile/Stepf
 anieMcCaffrey
ATTACH;FMTTYPE="image/jpeg":http://storage.ning.com/topology/rest/1.0/
 file/get/3054967261?profile=original
ATTENDEE;ROLE=REQ-PARTICIPANT;PARTSTAT=ACCEPTED;RSVP=TRUE;CN="Stepfani
 e McCaffrey":http://phillytodo.com/profile/StepfanieMcCaffrey
END:VEVENT
END:VCALENDAR
