BEGIN:VCALENDAR
PRODID:NingEventWidget-v1
VERSION:2.0
METHOD:PUBLISH
BEGIN:VEVENT
UID:4320450:Event:33442
DTSTAMP:20260425T124959Z
SUMMARY:Spectrum After Dark featuring \"DJ Gemini\"
DESCRIPTION:Stop by Spectrum Grill every Saturday night starting at 10
 pm for Spectrum After Dark!Enjoy your favorite house and club music fr
 om \"DJ Gemini.\" Private booths, bottle service and specialty cocktai
 ls are available all night long.Contact info@spectrumgrill.com to set 
 up your VIP Party or private booth.Free parking is available after 5:0
 5pm.\n\nFor more information visit http://phillytodo.com/events/spectr
 um-after-dark-featuring-dj-gemini
DTSTART:20130804T020000Z
DTEND:20130804T060000Z
CATEGORIES:music, dj
LOCATION:XFINITY Live! Philadelphia
WEBSITE:http://www.xfinitylive.com
URL:http://www.xfinitylive.com
CONTACT:215-609-1678
ORGANIZER;CN="Stepfanie McCaffrey":http://phillytodo.com/profile/Stepf
 anieMcCaffrey
ATTACH;FMTTYPE="image/jpeg":
ATTENDEE;ROLE=REQ-PARTICIPANT;PARTSTAT=ACCEPTED;RSVP=TRUE;CN="Stepfani
 e McCaffrey":http://phillytodo.com/profile/StepfanieMcCaffrey
END:VEVENT
END:VCALENDAR
