BEGIN:VCALENDAR
PRODID:NingEventWidget-v1
VERSION:2.0
METHOD:PUBLISH
BEGIN:VEVENT
UID:4320450:Event:33155
DTSTAMP:20260425T191201Z
SUMMARY:Spectrum After Dark featuring \"DJ Dosage\"
DESCRIPTION:Stop by Spectrum Grill every Saturday night starting at 10
 pm for Spectrum After Dark!Enjoy your favorite house and club music fr
 om \"DJ Dosage.\" Private booths, bottle service and specialty cocktai
 ls are available all night long.Contact info@spectrumgrill.com to set 
 up your VIP Party or private booth.Free parking is available after 7:3
 0pm.\n\nFor more information visit http://phillytodo.com/events/spectr
 um-after-dark-featuring-dj-dosage
DTSTART:20130721T020000Z
DTEND:20130721T060000Z
CATEGORIES:special, event
LOCATION:XFINITY Live! Philadelphia
WEBSITE:http://www.xfinitylive.com
URL:http://www.xfinitylive.com
CONTACT:215-609-1678
ORGANIZER;CN="Stepfanie McCaffrey":http://phillytodo.com/profile/Stepf
 anieMcCaffrey
ATTACH;FMTTYPE="image/jpeg":http://storage.ning.com/topology/rest/1.0/
 file/get/3054966293?profile=original
ATTENDEE;ROLE=REQ-PARTICIPANT;PARTSTAT=ACCEPTED;RSVP=TRUE;CN="Stepfani
 e McCaffrey":http://phillytodo.com/profile/StepfanieMcCaffrey
END:VEVENT
END:VCALENDAR
