BEGIN:VCALENDAR
PRODID:NingEventWidget-v1
VERSION:2.0
METHOD:PUBLISH
BEGIN:VEVENT
UID:4320450:Event:43062
DTSTAMP:20260425T144258Z
SUMMARY:SPANNING GENERATIONS: A CONVERSATION
DESCRIPTION:Moderators Bruce Metcalf and Judith Schaechter will presen
 t a panel discussion consisting of teachers and their choice of an art
 ist they once taught or mentored.  Topics will include the transition
 s between generations of makers, transactions between deep knowledge a
 nd learning, and speculation about the future of craft.\nKeynote addre
 ss by Perry Price, American Craft Council (ACC) Director of Education\
 nPanel Discussion between ACC Fellows and Emerging Talent with Meghan 
 Ayers, Sharon Church, Chrissy Day, Ted Hallman, Kathryn Pannepacker, W
 arren Selig, Paula Winokur, and Robert Winokur\nAttendees are invited 
 to attend a post-panel reception from 6pm-8pm at the Philadelphia Art
  Alliance, located at 251 S 18th Street. If you plan to attend, please
  RSVP for the reception as well as for the discussion.\n\nFor more inf
 ormation visit http://phillytodo.com/events/spanning-generations-a-con
 versation
DTSTART:20151113T200000Z
DTEND:20151113T223000Z
CATEGORIES:art, event
LOCATION:University of the Arts- Hamilton Hall
WEBSITE:http://www.craftnowphila.org
URL:http://www.craftnowphila.org
CONTACT:215-717-7883
ORGANIZER:Maria Moller
ATTACH;FMTTYPE="image/jpeg":
ATTENDEE;ROLE=REQ-PARTICIPANT;PARTSTAT=ACCEPTED;RSVP=TRUE;CN="Bryan Ch
 an":http://phillytodo.com/profile/BryanChan
END:VEVENT
END:VCALENDAR
