BEGIN:VCALENDAR
PRODID:NingEventWidget-v1
VERSION:2.0
METHOD:PUBLISH
BEGIN:VEVENT
UID:4320450:Event:36811
DTSTAMP:20260425T205629Z
SUMMARY:Southeast Asian Dragon Boat Festival
DESCRIPTION:The Southeast Dragon Boat Festival features an understandi
 ng and appreciation of the rich cultural heritage of the people of Sou
 theast Asia. The tradition of Dragon Boat Racing celebrates both the W
 ater Festival holiday and commemorates the use of these boats for mari
 time and naval activities. During the festival, the RiverStage comes 
 alive with Southeast Asian-inspired traditional entertainment, as well
  as contemporary and non-traditional performances.\n\nFor more informa
 tion visit http://phillytodo.com/events/southeast-asian-dragon-boat-fe
 stival
DTSTART:20140802T160000Z
DTEND:20140803T000000Z
CATEGORIES:boating, outdoors, waterfront
LOCATION:Penn's Landing Marina
WEBSITE:http://www.delawareriverwaterfront.com/events/southeast-asian-
 dragon-boat-festival-2014
URL:http://www.delawareriverwaterfront.com/events/southeast-asian-drag
 on-boat-festival-2014
CONTACT:215-922-2386
ORGANIZER;CN="Delaware River Waterfront Corp.":http://phillytodo.com/p
 rofile/DelawareRiverWaterfrontCorp
ATTACH;FMTTYPE="image/jpeg":http://storage.ning.com/topology/rest/1.0/
 file/get/3054975936?profile=original
ATTENDEE;ROLE=REQ-PARTICIPANT;PARTSTAT=ACCEPTED;RSVP=TRUE;CN="Delaware
  River Waterfront Corp.":http://phillytodo.com/profile/DelawareRiverWa
 terfrontCorp
END:VEVENT
END:VCALENDAR
