BEGIN:VCALENDAR
PRODID:NingEventWidget-v1
VERSION:2.0
METHOD:PUBLISH
BEGIN:VEVENT
UID:4320450:Event:36507
DTSTAMP:20260425T130613Z
SUMMARY:South Street Spring Festival
DESCRIPTION:South Street Spring Festival is back with even more food, 
 drink, music and fun!  On Saturday, May 3rd, 11:00am to 8:00pm, enjoy
  a FREE all-ages outdoor party that will close South Street between Fr
 ont and 8th, and run along 2nd Street Plaza. Get your fill of the best
  tastes, sips, sights and sounds of the district with 30 restaurants/b
 ars serving outdoors, music from 3 stages and 8 performance areas, and
  dozens of vendors and artists. Brauhaus Schmitz’s Maifest will take
  over the 700 block with German beers, food, dancers and a Maypole. F
 amilies can enjoy the free kid zone plus Art/Gage by Philadelphia Magi
 c Garden. \n \n\nFor more information visit http://phillytodo.com/ev
 ents/south-street-spring-festival
DTSTART:20140503T150000Z
DTEND:20140504T000000Z
CATEGORIES:festival, fair, spring, food, drink, family, fun, kid, zone
LOCATION:South Street Headhouse District
WEBSITE:http://southstreet.com/spring-festival-2014/
URL:http://southstreet.com/spring-festival-2014/
CONTACT:
ORGANIZER;CN="Aversa PR & Events":http://phillytodo.com/profile/KoryAv
 ersa277
ATTACH;FMTTYPE="image/jpeg":http://storage.ning.com/topology/rest/1.0/
 file/get/3054975234?profile=original
ATTENDEE;ROLE=REQ-PARTICIPANT;PARTSTAT=ACCEPTED;RSVP=TRUE;CN="Aversa P
 R & Events":http://phillytodo.com/profile/KoryAversa277
END:VEVENT
END:VCALENDAR
