BEGIN:VCALENDAR
PRODID:NingEventWidget-v1
VERSION:2.0
METHOD:PUBLISH
BEGIN:VEVENT
UID:4320450:Event:49356
DTSTAMP:20260425T142912Z
SUMMARY:South Street Spring Festival
DESCRIPTION:South Street kicks off Philly's summer festival season wit
 h a free, all-day, all ages block party on Saturday, May 6, 2017 from 
 11:00am to 8:00pm. South Street Spring Festival will take over South S
 treet between Front and 8th, plus continue onto 2nd Street Plaza. 30+ 
 restaurants and bars will serve food and drink outside on the street. 
  The district will come alive with music and entertainment from 40 ba
 nds, three stages and seven additional street locations. Children of a
 ll ages will enjoy free family fun in the Family Fun Zone. 100+ artist
 s and retailers will cater to your shopping needs. In conjunction with
  the Festival, Brauhaus Schmitz will host the 5th Annual German Maifes
 t with German beers, dancers, music, food and the city’s largest May
 pole. Atomic City Comics will host free giveaways and super hero sight
 ings during Free Comic Book Day. South Street Spring Festival is FREE 
 and open to the public. Food and drink are pay-as-you-go. 21 and up wi
 th identification to drink. Rain or shine. For the full schedule, visi
 t www.southstreet.com, call 215-413-3713 and follow @officialsouthst #
 SouthStFest on Twitter.\n\nFor more information visit http://phillytod
 o.com/events/south-street-spring-festival-4
DTSTART:20170506T150000Z
DTEND:20170507T000000Z
CATEGORIES:spring, festival
LOCATION:South Street
WEBSITE:http://aversapr.com/aversapr/south-street-spring-festival-retu
 rns-saturday-may-6-2017
URL:http://aversapr.com/aversapr/south-street-spring-festival-returns-
 saturday-may-6-2017
CONTACT:215-413-3714
ORGANIZER:South Street Headhouse District
ATTACH;FMTTYPE="image/jpeg":http://storage.ning.com/topology/rest/1.0/
 file/get/3055002227?profile=original
ATTENDEE;ROLE=REQ-PARTICIPANT;PARTSTAT=ACCEPTED;RSVP=TRUE;CN="Aversa P
 R & Events":http://phillytodo.com/profile/KoryAversa277
END:VEVENT
END:VCALENDAR
