BEGIN:VCALENDAR
PRODID:NingEventWidget-v1
VERSION:2.0
METHOD:PUBLISH
BEGIN:VEVENT
UID:4320450:Event:40502
DTSTAMP:20260425T173902Z
SUMMARY:South Street Spring Festival
DESCRIPTION:South Street kicks off Philly's summer festival season wit
 h a free, all-day, all ages block party on Saturday, May 2, 2015 from 
 11:00am to 8:00pm. Festivities will take over South Street between Fro
 nt and 8th, plus continue onto 2nd Street Plaza. 30+ restaurants and b
 ars will serve food and drink outside on the street. The district will
  come alive with music and entertainment from three stages and eight a
 dditional street locations. Children of all ages will enjoy free famil
 y fun in the Kids Zone. 40+ artists and retailers will cater to your s
 hopping needs. In conjunction with the Festival, Brauhaus Schmitz will
  host the 3rd annual German Maifest with German beers, dancers, music,
  food and the city’s largest Maypole. South Street Spring Festival i
 s FREE and open to the public. Food and drink are pay-as-you-go. 21 an
 d up with identification to drink. Rain or shine. For the full schedul
 e, visit www.southstreet.com, call 215-413-3713 and follow @officialso
 uthst #SouthStFest on Twitter.\n\nFor more information visit http://ph
 illytodo.com/events/south-street-spring-festival-1
DTSTART:20150502T150000Z
DTEND:20150503T000000Z
CATEGORIES:festival
LOCATION:South Street Headhouse District
WEBSITE:https://www.facebook.com/events/1042286542453749/
URL:https://www.facebook.com/events/1042286542453749/
CONTACT:
ORGANIZER;CN="Aversa PR & Events":http://phillytodo.com/profile/KoryAv
 ersa277
ATTACH;FMTTYPE="image/jpeg":http://storage.ning.com/topology/rest/1.0/
 file/get/3054987431?profile=original
ATTENDEE;ROLE=REQ-PARTICIPANT;PARTSTAT=ACCEPTED;RSVP=TRUE;CN="Aversa P
 R & Events":http://phillytodo.com/profile/KoryAversa277
END:VEVENT
END:VCALENDAR
