BEGIN:VCALENDAR
PRODID:NingEventWidget-v1
VERSION:2.0
METHOD:PUBLISH
BEGIN:VEVENT
UID:4320450:Event:47074
DTSTAMP:20260425T142727Z
SUMMARY:South Street PumpkinFest
DESCRIPTION:South Street Headhouse District has plenty of tricks and t
 reats for children of all ages during the neighborhood’s annual Hall
 oween festivities. On Saturday, October 29, 2016, from Noon to 5:00pm,
  PumpkinFest returns to Headhouse Square (2nd and Lombard) with circus
  performances, horse and wagon hay rides, live music, shopping, season
 al bites, straw bale maze, face painting and new costume contests. Bus
 inesses will open their doors for trick or treaters (12 and under) fro
 m 3:00pm to 5:00pm.  Sponsored by 101.1 More FM, Aversa PR & Events, 
 One Warm Coat, Philadelphia Brewing Company and Philadelphia School of
  Circus Arts. For more information, visit www.southstreet.com or call 
 (215) 413-3713.  \n\nFor more information visit http://phillytodo.com
 /events/south-street-pumpkinfest
DTSTART:20161029T160000Z
DTEND:20161029T210000Z
CATEGORIES:festival
LOCATION:Headhouse Square
WEBSITE:
URL:
CONTACT:215.413.3713
ORGANIZER;CN="Aversa PR & Events":http://phillytodo.com/profile/KoryAv
 ersa277
ATTACH;FMTTYPE="image/jpeg":http://storage.ning.com/topology/rest/1.0/
 file/get/3054997789?profile=original
ATTENDEE;ROLE=REQ-PARTICIPANT;PARTSTAT=ACCEPTED;RSVP=TRUE;CN="Aversa P
 R & Events":http://phillytodo.com/profile/KoryAversa277
END:VEVENT
END:VCALENDAR
