BEGIN:VCALENDAR
PRODID:NingEventWidget-v1
VERSION:2.0
METHOD:PUBLISH
BEGIN:VEVENT
UID:4320450:Event:48043
DTSTAMP:20260425T143216Z
SUMMARY:South Street Christmas Parade and Headhouse Tree Lighting
DESCRIPTION:South Street Headhouse District kicks off the holidays wit
 h the South Street Christmas Parade and Headhouse Square Tree Lighting
  this Sunday, December 4, 2016. Santa Claus will make his annual journ
 ey down South Street on top of a shiny red firetruck Engine 11 startin
 g at 3:00pm from 11th and South Street. Parade special guests and part
 icipants will include CBS 3’s Meisha Johnson, plus the Pennsport Mum
 mers, the Philadelphia Freedom Band, Liberty Bellows, Philly PACK kids
  ensemble, Equilibrium Dance Studio, the cast of Liberty City Theatre'
 s \"It's A Wonderful Life\" and more. When the parade reaches Headhous
 e Square, Santa will greet all the little boys and girls to find out w
 ho’s been naughty and who’s been nice. He will then help light the
  Headhouse Square Tree at 5:00pm. Revelers will then enjoy photos of t
 heir children with Santa, Rudolph and Frosty. SSHD vendors will be und
 er the Shambles offering snacks, hot cocoa and cider. Plus, there will
  entertainment from the parade performers in Headhouse Square. Please 
 bring a new, unwrapped gift for a boy or girl and leave in donation bo
 xes under the Headhouse Square Shambles during the festivities. Free a
 nd open to the public. For more information, visit www.southstreet.com
  or call (215) 413-3713.  \n\nFor more information visit http://phill
 ytodo.com/events/south-street-christmas-parade-and-headhouse-tree-ligh
 ting
DTSTART:20161204T200000Z
DTEND:20161204T220000Z
CATEGORIES:parade
LOCATION:South Street
WEBSITE:http://southstreet.com/event/south-street-christmas-parade/
URL:http://southstreet.com/event/south-street-christmas-parade/
CONTACT:215.413.3713
ORGANIZER:South Street Headhouse District
ATTACH;FMTTYPE="image/jpeg":http://storage.ning.com/topology/rest/1.0/
 file/get/3055003035?profile=original
ATTENDEE;ROLE=REQ-PARTICIPANT;PARTSTAT=ACCEPTED;RSVP=TRUE;CN="Aversa P
 R & Events":http://phillytodo.com/profile/KoryAversa277
END:VEVENT
END:VCALENDAR
