BEGIN:VCALENDAR
PRODID:NingEventWidget-v1
VERSION:2.0
METHOD:PUBLISH
BEGIN:VEVENT
UID:4320450:Event:28518
DTSTAMP:20260425T161450Z
SUMMARY:SOUTH STREET ANTIQUE & VINTAGE FLEA MARKET
DESCRIPTION:More Than 75 Vendors Featuring Antiques, Collectibles, Vin
 tage Furniture, Jewelry, Glassware, Pottery & Much More!\nUse 1001 Sou
 th Street, 19147 For GPS Directions\nFor Our Entire Winter Indoor Sche
 dule Log Onto: www.PhilaFleaMarkets.org\n \n\nFor more information vi
 sit http://phillytodo.com/events/south-street-antique-vintage-flea-mar
 ket
DTSTART:20121020T130000Z
DTEND:20121020T210000Z
CATEGORIES:flea, market
LOCATION:Around The Block At 10th & South Streets
WEBSITE:http://www.PhilaFleaMarkets.org
URL:http://www.PhilaFleaMarkets.org
CONTACT:215-625-3532
ORGANIZER;CN="Phila Flea Markets":http://phillytodo.com/profile/PhilaF
 leaMarkets
ATTACH;FMTTYPE="image/jpeg":
ATTENDEE;ROLE=REQ-PARTICIPANT;PARTSTAT=ACCEPTED;RSVP=TRUE;CN="Phila Fl
 ea Markets":http://phillytodo.com/profile/PhilaFleaMarkets
END:VEVENT
END:VCALENDAR
