BEGIN:VCALENDAR
PRODID:NingEventWidget-v1
VERSION:2.0
METHOD:PUBLISH
BEGIN:VEVENT
UID:4320450:Event:3994
DTSTAMP:20260425T175146Z
SUMMARY:South Jersey's Hottest New Club - Grand Opening VIP Party
DESCRIPTION:In a long-awaited event, H2O Beach Club in the heart of So
 uth Jersey, is opening it's doors on March 5th to welcome hundreds of 
 guests to experience the brand new indoor pool & jacuzzi-side beach ba
 sh starting every weekend. Come Dressed to be Photographed and experie
 nce the region's largest venue! This is sure to be be South Jersey's h
 ottest club playing incredible dance music with the best DJs, entertai
 ner's, and beach experience around!  It's like being at the Jersey Sh
 ore - all year long.\nBottle service and table reservations available.
   Call 856-767-7865 to reserve yours.\nVERY LIMITED RSVP SPOTS LEFT 
 - SIGN UP ASAP TO ATTEND!  Get there EARLY (check in starts at (9:00
  pm) and stay late - it is going to be a GREAT night - and tons of fun
 .\nThis amazing event includes a complimentary 2-hour select open b
 ar(9:30-11:30pm - premium mixed drinks, beer, and house wine), DJ mus
 ic all night long, dancers, and hundreds of hottest people in the are
 a to mix & mingle with. \nThis is a DO NOT MISS featured VIP Upcom
 ingEvents.com event.\nThe Guestlist is limited and is first come, fir
 st serve.  THIS EVENT WILL GO TO CAPACITY.  Please do not wait to s
 ign up or there is a good chance you will not be able to get it.  Cli
 ck the RSVP link below to get on the list.  Be sure to tell your frie
 nds and co-workers too!  SEE YOU THERE.\nWe remind you to always enj
 oy yourself responsibly - do not drink & drive.\n \nWant more info? 
 \nhttp://www.UpcomingEvents.com/event/6652/ptodo/\n\nFor more informat
 ion visit http://phillytodo.com/events/south-jerseys-hottest-new-club
DTSTART:20110306T023000Z
DTEND:20110306T070000Z
CATEGORIES:grand, opening
LOCATION:H20 Beach Club
WEBSITE:
URL:
CONTACT:
ORGANIZER;CN="UpcomingEvents.com":http://phillytodo.com/profile/Upcomi
 ngEventscom
ATTACH;FMTTYPE="image/jpeg":http://storage.ning.com/topology/rest/1.0/
 file/get/3054954174?profile=original
ATTENDEE;ROLE=REQ-PARTICIPANT;PARTSTAT=ACCEPTED;RSVP=TRUE;CN="Upcoming
 Events.com":http://phillytodo.com/profile/UpcomingEventscom
END:VEVENT
END:VCALENDAR
