BEGIN:VCALENDAR
PRODID:NingEventWidget-v1
VERSION:2.0
METHOD:PUBLISH
BEGIN:VEVENT
UID:4320450:Event:45138
DTSTAMP:20260425T142700Z
SUMMARY:Sour Bowl II at BRÜ Craft & Wurst
DESCRIPTION:Sour Bowl II kicks off on Sunday, January 31, 2016 at 11:0
 0am with a full 32-tap takeover at BRÜ (1316 Chestnut St) that featur
 es 28 sours, plus four IPAs, including Pliny the Elder. Simultaneously
  at BRÜ’s subterranean sister bar U-Bahn, Stout Bowl will feature 1
 4 over-the-top stouts, plus a Tröegs firkin. Beers are first come, fi
 rst serve and range from $7 to $10. These are rare, wild and funky sou
 rs that very hard to find. Don’t miss out! For more information visi
 t BRU on Facebook or call (215) 800-1079.\n\nFor more information visi
 t http://phillytodo.com/events/sour-bowl-ii-at-br-craft-wurst
DTSTART:20160131T160000Z
DTEND:20160201T070000Z
CATEGORIES:tap, takeover, -, sour, beers
LOCATION:BRÜ Craft & Wurst
WEBSITE:http://www.bruphilly.com/
URL:http://www.bruphilly.com/
CONTACT:(215) 800-1079
ORGANIZER:BRÜ Craft & Wurst
ATTACH;FMTTYPE="image/jpeg":http://storage.ning.com/topology/rest/1.0/
 file/get/3054991923?profile=original
ATTENDEE;ROLE=REQ-PARTICIPANT;PARTSTAT=ACCEPTED;RSVP=TRUE;CN="Aversa P
 R & Events":http://phillytodo.com/profile/KoryAversa277
END:VEVENT
END:VCALENDAR
