BEGIN:VCALENDAR
PRODID:NingEventWidget-v1
VERSION:2.0
METHOD:PUBLISH
BEGIN:VEVENT
UID:4320450:Event:48223
DTSTAMP:20260425T131356Z
SUMMARY:Sounds of the Season at Woodford Mansion
DESCRIPTION:Join us as the historic houses host “Sounds of the Seaso
 n”, sponsored by WRTI, celebrating the musical diversity of the city
 . Opera Philadelphia will visit Woodford Mansion to perform at 2 pm. C
 lick here to reserve tickets for Sounds of the Season at Woodford Mans
 ion. You can find all the details about this year's program at holiday
 sinthepark.com.\n\nFor more information visit http://phillytodo.com/ev
 ents/sounds-of-the-season-at-woodford-mansion
DTSTART:20161203T190000Z
DTEND:20161203T210000Z
CATEGORIES:concert
LOCATION:Woodford Mansion
WEBSITE:http://holidaysinthepark.com/holiday-events/sounds-of-the-seas
 on/
URL:http://holidaysinthepark.com/holiday-events/sounds-of-the-season/
CONTACT:215-229-6115
ORGANIZER:Historic Houses of Fairmount Park
ATTACH;FMTTYPE="image/jpeg":http://storage.ning.com/topology/rest/1.0/
 file/get/3054999110?profile=original
ATTENDEE;ROLE=REQ-PARTICIPANT;PARTSTAT=ACCEPTED;RSVP=TRUE;CN="Bryan Ch
 an":http://phillytodo.com/profile/BryanChan
END:VEVENT
END:VCALENDAR
