BEGIN:VCALENDAR
PRODID:NingEventWidget-v1
VERSION:2.0
METHOD:PUBLISH
BEGIN:VEVENT
UID:4320450:Event:42930
DTSTAMP:20260425T131032Z
SUMMARY:Sound and Scent in the Andalusian Garden
DESCRIPTION:Al-Bustan is pleased to co-present the third event of Wor
 ds Adorned with Bryn Mawr College’s Middle East Studies Program and
  Arabic Program\nPresenting: A Talk by Dr. Dede Fairchild RugglesIsla
 mic gardens were richly sensory environments: the poets tell us so, th
 e manuscript paintings show us, and our own encounters with modern gar
 dens reminds us of these pleasures. Dr. Ruggles will discuss the Andal
 usian Garden as she tries to answer the question: how do we study the 
 sensory experiences of the past, given that the ephemeral effects of s
 cented flowers and fleeting sounds leave so few traces?\n\n\nDate: No
 vember 3, 2015 | 4:30pm - Reception | 5.00pm - Lecture\nLocation: Bry
 n Mawr College - Goodhart Hall - Music Room\nAdmission: Free\n\n\nFor 
 more information visit http://phillytodo.com/events/sound-and-scent-in
 -the-andalusian-garden
DTSTART:20151103T213000Z
DTEND:20151103T230000Z
CATEGORIES:lecture
LOCATION:Bryn Mawr College : Goodhart Hall
WEBSITE:https://www.google.com/webhp?sourceid=chrome-instant&rlz=1C5CH
 FA_enUS503US504&ion=1&espv=2&ie=UTF-8#q=goodhart%20hall%20bryn%20mawr%
 20college
URL:https://www.google.com/webhp?sourceid=chrome-instant&rlz=1C5CHFA_e
 nUS503US504&ion=1&espv=2&ie=UTF-8#q=goodhart%20hall%20bryn%20mawr%20co
 llege
CONTACT:
ORGANIZER;CN="Al-Bustan Seeds of Culture":http://phillytodo.com/profil
 e/AlBustanSeedsofCulture
ATTACH;FMTTYPE="image/jpeg":http://storage.ning.com/topology/rest/1.0/
 file/get/3054990238?profile=original
ATTENDEE;ROLE=REQ-PARTICIPANT;PARTSTAT=ACCEPTED;RSVP=TRUE;CN="Al-Busta
 n Seeds of Culture":http://phillytodo.com/profile/AlBustanSeedsofCultu
 re
END:VEVENT
END:VCALENDAR
