BEGIN:VCALENDAR
PRODID:NingEventWidget-v1
VERSION:2.0
METHOD:PUBLISH
BEGIN:VEVENT
UID:4320450:Event:168615
DTSTAMP:20260425T112443Z
SUMMARY:Souderton Art Jam
DESCRIPTION:The Souderton Art Jam is a festival featuring artists and 
 artisans from all over the east coast. Come experience art, food, fun,
  live music, wine, craft beer, and so much more! This event is family 
 friendly. Well-behaved dogs are welcome.  \n \nFollow @soudertoncon
 nects on Instagram or visit Souderton Connects on Facebook for updates
 . Please email manager@soudertonconnects.com for any questions or assi
 stance. \n\nFor more information visit http://phillytodo.com/events/s
 ouderton-art-jam
DTSTART:20210925T140000Z
DTEND:20210925T210000Z
CATEGORIES:arts, festival
LOCATION:459 Wile Avenue, Souderton, PA 18964 (Wile Avenue between Sou
 derton Community Park &amp; Pool)
WEBSITE:https://www.soudertonconnects.com/art-jam
URL:https://www.soudertonconnects.com/art-jam
CONTACT:2157236627
ORGANIZER:Souderton Connects
ATTACH;FMTTYPE="image/jpeg":https://storage.ning.com/topology/rest/1.0
 /file/get/9452076099?profile=original
ATTENDEE;ROLE=REQ-PARTICIPANT;PARTSTAT=ACCEPTED;RSVP=TRUE;CN="Bryan Ch
 an":http://phillytodo.com/profile/BryanChan
END:VEVENT
END:VCALENDAR
