BEGIN:VCALENDAR
PRODID:NingEventWidget-v1
VERSION:2.0
METHOD:PUBLISH
BEGIN:VEVENT
UID:4320450:Event:38139
DTSTAMP:20260425T124905Z
SUMMARY:Soil-Making in the Forest
DESCRIPTION:Join LandLab resident artist Jake Beckman and other gues
 ts for an afternoon of information and activities that explore the pro
 cesses of soil formation in our area. You’ll be amazed by the comple
 xity of this generally unseen world. A short informal lecture (with lo
 ts of pictures!) will be followed by a nature walk and demonstrations 
 of several science experiments that you can do at home. Come and learn
  about the world beneath your feet.\n$15\n\nFor more information visit
  http://phillytodo.com/events/soil-making-in-the-forest
DTSTART:20141004T180000Z
DTEND:20141004T200000Z
CATEGORIES:"lecture/nature", walk
LOCATION:Schuylkill Center for Environmental Education
WEBSITE:http://www.schuylkillcenter.org/
URL:http://www.schuylkillcenter.org/
CONTACT:215-482-7300
ORGANIZER;CN="The Schuylkill Center":http://phillytodo.com/profile/Ann
 aLehrMueser
ATTACH;FMTTYPE="image/jpeg":http://storage.ning.com/topology/rest/1.0/
 file/get/3054980330?profile=original
ATTENDEE;ROLE=REQ-PARTICIPANT;PARTSTAT=ACCEPTED;RSVP=TRUE;CN="The Schu
 ylkill Center":http://phillytodo.com/profile/AnnaLehrMueser
END:VEVENT
END:VCALENDAR
