BEGIN:VCALENDAR
PRODID:NingEventWidget-v1
VERSION:2.0
METHOD:PUBLISH
BEGIN:VEVENT
UID:4320450:Event:40915
DTSTAMP:20260425T173948Z
SUMMARY:Society Hill Vintage Flea Market This Sat, May 30th
DESCRIPTION:\nAddress:3rd & Pine, Philadelphia, PA 19147\n\n\nPhone215
  - 625 - 3532\n\nDescription:\nSociety Hill Vintage Flea Market This S
 at, May 30thAlong Pine and Lombard Streets From 3rd To 5thMore Than 10
 0 Vendors Featuring Antique & Mid-Century Modern Furniture, Collectibl
 es, Vintage Jewelry, Clothing & Accessory's, Primitives, Industrial, A
 rt Work, Great Food and Much More8AM til 5PMFree Admission / ATM / Han
 dicap AccessibleFree Parking In The Lot At 3rd & LombardUse 301 Lombar
 d Street For GPSMore Info: www.PhilaFleaMarkets.org\n\n\nFor more info
 rmation visit http://phillytodo.com/events/society-hill-vintage-flea-m
 arket-this-sat-may-30th
DTSTART:20150530T120000Z
DTEND:20150530T210000Z
CATEGORIES:flea, market
LOCATION:Saint Peter's Church - 3rd & Pine
WEBSITE:http://www.PhilaFleaMarkets.org
URL:http://www.PhilaFleaMarkets.org
CONTACT:215 - 625 - 3532
ORGANIZER;CN="Phila Flea Markets":http://phillytodo.com/profile/PhilaF
 leaMarkets
ATTACH;FMTTYPE="image/jpeg":http://storage.ning.com/topology/rest/1.0/
 file/get/3054989875?profile=original
ATTENDEE;ROLE=REQ-PARTICIPANT;PARTSTAT=ACCEPTED;RSVP=TRUE;CN="Phila Fl
 ea Markets":http://phillytodo.com/profile/PhilaFleaMarkets
END:VEVENT
END:VCALENDAR
