BEGIN:VCALENDAR
PRODID:NingEventWidget-v1
VERSION:2.0
METHOD:PUBLISH
BEGIN:VEVENT
UID:4320450:Event:32247
DTSTAMP:20260425T112913Z
SUMMARY:Society Hill Dance Academy 11th Anniversary Soiree
DESCRIPTION:Join the Society Hill Dance Academy as they celebrate 11 y
 ears of being in the ballroom dance business! The evening will have li
 ve music, a dance showcase, and top shelf open bar. Cocktail attire is
  required so dress to impress!\n\nFor more information visit http://ph
 illytodo.com/events/society-hill-dance-academy-11th-anniversary-soiree
DTSTART:20130608T220000Z
DTEND:20130609T033000Z
CATEGORIES:anniversary, party
LOCATION:Tendenza
WEBSITE:
URL:
CONTACT:2155743574
ORGANIZER;CN="Skai Blue Media":http://phillytodo.com/profile/SkaiBlueM
 edia
ATTACH;FMTTYPE="image/jpeg":
ATTENDEE;ROLE=REQ-PARTICIPANT;PARTSTAT=ACCEPTED;RSVP=TRUE;CN="Skai Blu
 e Media":http://phillytodo.com/profile/SkaiBlueMedia
END:VEVENT
END:VCALENDAR
