BEGIN:VCALENDAR
PRODID:NingEventWidget-v1
VERSION:2.0
METHOD:PUBLISH
BEGIN:VEVENT
UID:4320450:Event:1745
DTSTAMP:20260425T144246Z
SUMMARY:Social Media Day Philly!
DESCRIPTION:Social Media Day - A day to celebrate the revolution of me
 dia becoming a social dialogue. Celebrate Social Media Day in with Mas
 hable by attending our Philly Meetup sponsored by Chevy on June 30 at 
 Field House on 1150 Filbert St.\n\nWe'll be partying from 7pm-9pmish, 
 with some free beverages, some great beats, awesome people, and a swee
 t version of quizo using Twitter called...(what else?)...TWIZZO. Sign 
 up using the link below:\n\nhttp://www.meetup.com/Mashable/7535/\n\nFo
 r more information visit http://phillytodo.com/events/social-media-day
 -philly
DTSTART:20100630T230000Z
DTEND:20100701T010000Z
CATEGORIES:social, media, "party!"
LOCATION:Field House
WEBSITE:http://www.meetup.com/Mashable/7535/
URL:http://www.meetup.com/Mashable/7535/
CONTACT:6104914016
ORGANIZER;CN="Jed Singer":http://phillytodo.com/profile/JedSinger
ATTACH;FMTTYPE="image/jpeg":http://storage.ning.com/topology/rest/1.0/
 file/get/3054949547?profile=original
ATTENDEE;ROLE=REQ-PARTICIPANT;PARTSTAT=ACCEPTED;RSVP=TRUE;CN="Jed Sing
 er":http://phillytodo.com/profile/JedSinger
END:VEVENT
END:VCALENDAR
