BEGIN:VCALENDAR
PRODID:NingEventWidget-v1
VERSION:2.0
METHOD:PUBLISH
BEGIN:VEVENT
UID:4320450:Event:2211
DTSTAMP:20260425T125032Z
SUMMARY:Social Media Day Philly + SCVNGR!
DESCRIPTION:Aaaaaaand we're BACK! SCVNGR Invades Social Media Day Phil
 ly on Sept 14!\n\nThat's right, you read correctly. SCVNGR, a hot Goog
 le-funded mobile gaming startup incubated in Philadelphia's own DreamI
 t Ventures, is taking Social Media Day Philly by storm!\n\nJoin us at 
 the Field House on Tuesday, September 14 from 6-8pm to sample some app
 s, engage in a little schmoozing, and celebrate the official launch of
  SCVNGR Rewards in Philadelphia!\n\nFifty of Philadelphia's top bars, 
 restaurants, coffee shops, and venues will start using the mobile loca
 tion-based gaming startup's new rewards program on the 14th to let cus
 tomers earn points towards discounts and free products. Not only is SC
 VNGR building a special 'Social Media Day Philly' Trek for the occasio
 n, you can do custom challenges at Field House and earn tons of sweet 
 SCVNGR swag and gift cards. Now who doesn't love swag?\n\nFor good mea
 sure, we are going to attempt the largest social check-in in history a
 t 7pm! Can we beat 175 people??\n\nFor more information visit http://p
 hillytodo.com/events/social-media-day-philly-1
DTSTART:20100914T220000Z
DTEND:20100915T000000Z
CATEGORIES:meetup
LOCATION:Field House
WEBSITE:http://www.meetup.com/Mashable/22258
URL:http://www.meetup.com/Mashable/22258
CONTACT:
ORGANIZER;CN="Jed Singer":http://phillytodo.com/profile/JedSinger
ATTACH;FMTTYPE="image/jpeg":http://storage.ning.com/topology/rest/1.0/
 file/get/3054950521?profile=original
ATTENDEE;ROLE=REQ-PARTICIPANT;PARTSTAT=ACCEPTED;RSVP=TRUE;CN="Jed Sing
 er":http://phillytodo.com/profile/JedSinger
END:VEVENT
END:VCALENDAR
