BEGIN:VCALENDAR
PRODID:NingEventWidget-v1
VERSION:2.0
METHOD:PUBLISH
BEGIN:VEVENT
UID:4320450:Event:54937
DTSTAMP:20260425T144258Z
SUMMARY:Soap Making Two Ways
DESCRIPTION:Nichole Gerding from Thankful Sage Farm School will be her
 e to teach you the recipes and techniques for both cold process (lye b
 ased) and pour-and-mold soaps! Nichole uses her knowledge of early Ame
 rican domestic skills and simple and time tested methods to make organ
 ic small batch soaps, heritage candles, and beeswax products.\n\nFor m
 ore information visit http://phillytodo.com/events/soap-making-two-way
 s
DTSTART:20180310T170000Z
DTEND:20180310T190000Z
CATEGORIES:"workshop/class"
LOCATION:Greensgrow Community Kitchen at St. Michael's Lutheran Church
WEBSITE:http://www.greensgrow.org/event/soap-making-two-ways/
URL:http://www.greensgrow.org/event/soap-making-two-ways/
CONTACT:
ORGANIZER;CN="Greensgrow Farms":http://phillytodo.com/profile/Greensgr
 owFarms
ATTACH;FMTTYPE="image/jpeg":
ATTENDEE;ROLE=REQ-PARTICIPANT;PARTSTAT=ACCEPTED;RSVP=TRUE;CN="Greensgr
 ow Farms":http://phillytodo.com/profile/GreensgrowFarms
END:VEVENT
END:VCALENDAR
