BEGIN:VCALENDAR
PRODID:NingEventWidget-v1
VERSION:2.0
METHOD:PUBLISH
BEGIN:VEVENT
UID:4320450:Event:51601
DTSTAMP:20260425T112742Z
SUMMARY:Snow White at Arden Theatre Company
DESCRIPTION:World premiere! Written and directed by Greg Banks On the 
 Arcadia Stage April 4 - May 27  This is Snow White as you’ve neve
 r seen it before. A world premiere production of the classic tale that
  features a beautiful princess, her evil queen, a huntsman, one magic 
 mirror, and the legendary seven dwarfs – all brought to life by TWO 
 ACTORS! From the writer of the Arden’s acclaimed productions of Pin
 occhio and The Jungle Book comes this new play that features two vi
 rtuosic performers bringing a world to life before your eyes with the 
 vibrant creativity and thrilling theatricality you’ve come to expect
  from Arden Children’s Theatre.\n\nMost enjoyed by families with chi
 ldren ages 6 and older.\n\nFor more information visit http://phillytod
 o.com/events/snow-white-at-arden-theatre-co
DTSTART:20180404T040000Z
DTEND:20180604T035900Z
CATEGORIES:"children's", theatre, performing, arts
LOCATION:Arden Theatre Company
WEBSITE:http://www.ardentheatre.org/
URL:http://www.ardentheatre.org/
CONTACT:215.922.1122
ORGANIZER;CN="Arden Theatre Company":http://phillytodo.com/profile/Ard
 enTheatreCompany
ATTACH;FMTTYPE="image/jpeg":http://storage.ning.com/topology/rest/1.0/
 file/get/3055010098?profile=original
ATTENDEE;ROLE=REQ-PARTICIPANT;PARTSTAT=ACCEPTED;RSVP=TRUE;CN="Arden Th
 eatre Company":http://phillytodo.com/profile/ArdenTheatreCompany
END:VEVENT
END:VCALENDAR
