BEGIN:VCALENDAR
PRODID:NingEventWidget-v1
VERSION:2.0
METHOD:PUBLISH
BEGIN:VEVENT
UID:4320450:Event:26615
DTSTAMP:20260425T161444Z
SUMMARY:Snockey’s Oyster & Crab House Celebrates 100 Years!
DESCRIPTION:Join the long-time neighborhood eatery as they turn 100 th
 is spring. The legendary seafood staple is a must-visit destination fo
 r both locals and visitors. To honor their monumental milestone, Snock
 ey’s will host festivities from April 30th – May 6th. Diners will 
 enjoy specialty prices and extended hours of “Clammy Hour”. On the
  official anniversary date, Thursday, May 3rd, Snockey’s will pay ho
 mage to the original 1912 menu and offer $19.12 dinner platters in hon
 or of the occasion.  Celebrations will continue with a beer garden, l
 ive entertainment classic “Cruise In”, and more on Saturday, May 5
 th and Sunday, May 6th.\n \n For reservations throughout the week (e
 xcluding Thursday, May 3rd), please call 215.339.9578.\n\nFor more inf
 ormation visit http://phillytodo.com/events/snockey-s-oyster-crab-hous
 e-celebrates-100-years
DTSTART:20120430T040000Z
DTEND:20120507T035900Z
CATEGORIES:100th, anniversary, celebration
LOCATION:Snockey's Oyster & Crab House
WEBSITE:http://www.snockeys.com
URL:http://www.snockeys.com
CONTACT:215.339.9578
ORGANIZER;CN="Becky L":http://phillytodo.com/profile/BeckyL
ATTACH;FMTTYPE="image/jpeg":http://storage.ning.com/topology/rest/1.0/
 file/get/3054958544?profile=original
ATTENDEE;ROLE=REQ-PARTICIPANT;PARTSTAT=ACCEPTED;RSVP=TRUE;CN="Becky L"
 :http://phillytodo.com/profile/BeckyL
END:VEVENT
END:VCALENDAR
