BEGIN:VCALENDAR
PRODID:NingEventWidget-v1
VERSION:2.0
METHOD:PUBLISH
BEGIN:VEVENT
UID:4320450:Event:24602
DTSTAMP:20260425T130914Z
SUMMARY:Sneak Peek of Rex 1516 at Drink Philly's First Friday
DESCRIPTION:Be the first to sample delicious eats from Rex 1516, the s
 oon-to-open South Street eatery by Jet Wine Bar creators Jill Weber an
 d Evan Malone, at Drink Philly’s First Friday, February 5th.\n \nFi
 rst Friday will feature a sampling of the Southern/Creole-style restau
 rant’s fare—think \"triple threat\" mac 'n' cheese (with gruyere, 
 swiss, and fontina) with roasted tomatoes, and a traditional jambalaya
 .\n \nThey’re pairing the eats with samples of winter sangria (ora
 nge, cinnamon, nutmeg, clove) and Crane Lake Viognier from California.
 \n \nThe event will also feature local artists and musicians such as 
 Daniel Howard, Kevin B. Huang, Miguel Antonio Horn, Rachel Lynn Kotkos
 kie, and Robert Baruch.\n\nFor more information visit http://phillytod
 o.com/events/sneak-peek-of-rex-1516-at-drink-philly-s-first-friday
DTSTART:20120203T220000Z
DTEND:20120204T020000Z
CATEGORIES:drink, philly, first, friday
LOCATION:Drink Phiilly
WEBSITE:http://philly.thedrinknation.com/articles/read/6668-First-Frid
 ay-February-3-Rex-1516
URL:http://philly.thedrinknation.com/articles/read/6668-First-Friday-F
 ebruary-3-Rex-1516
CONTACT:
ORGANIZER:Drink Philly
ATTACH;FMTTYPE="image/jpeg":http://storage.ning.com/topology/rest/1.0/
 file/get/3054958132?profile=original
ATTENDEE;ROLE=REQ-PARTICIPANT;PARTSTAT=ACCEPTED;RSVP=TRUE;CN="Lauren W
 enzel":http://phillytodo.com/profile/JacklinRhoads
END:VEVENT
END:VCALENDAR
