BEGIN:VCALENDAR
PRODID:NingEventWidget-v1
VERSION:2.0
METHOD:PUBLISH
BEGIN:VEVENT
UID:4320450:Event:44950
DTSTAMP:20260425T125022Z
SUMMARY:Smoke by Kim Davies
DESCRIPTION:Theatre Exile presents the Philadelphia premiere of erotic
  thriller Smoke, from February 18-March 13, 2016 (various times) at St
 udio X (1340 S. 13th Street). John and Julie meet at a kink party in N
 ew York City. She’s an aspiring college dropout and he a jaded wanna
 be artist—they instantly connect. With desires exposed, knives out a
 nd sex an open-ended question, a playful game of cat and mouse heats u
 p and becomes a dangerous struggle for power that pushes them further 
 than they'd ever thought they'd go. Written by Kim Davies, directed by
  Deborah Block and starring Matteo Scammell and Merci Lyons-Cox. Ticke
 ts are $10-40 at www.theatreexile.org or call (215) 218-4022.\n\nFor m
 ore information visit http://phillytodo.com/events/smoke-by-kim-davies
DTSTART:20160218T050000Z
DTEND:20160314T035900Z
CATEGORIES:theatre, show
LOCATION:Studio X
WEBSITE:http://www.theatreexile.org/episodes/smoke-kim-davies.html
URL:http://www.theatreexile.org/episodes/smoke-kim-davies.html
CONTACT:(215) 218-4022
ORGANIZER:Theatre Exile
ATTACH;FMTTYPE="image/jpeg":http://storage.ning.com/topology/rest/1.0/
 file/get/3054993291?profile=original
ATTENDEE;ROLE=REQ-PARTICIPANT;PARTSTAT=ACCEPTED;RSVP=TRUE;CN="Aversa P
 R & Events":http://phillytodo.com/profile/KoryAversa277
END:VEVENT
END:VCALENDAR
