BEGIN:VCALENDAR
PRODID:NingEventWidget-v1
VERSION:2.0
METHOD:PUBLISH
BEGIN:VEVENT
UID:4320450:Event:60313
DTSTAMP:20260425T130115Z
SUMMARY:Small Favors XV: Expanding the Field
DESCRIPTION:To celebrate the 15th anniversary of Small Favors exhibiti
 on, The Clay Studio has expanded the show to include all media. This p
 opular show challenges artists' creativity in new and exciting ways wi
 th the challenge of making pieces on a very small scale. For some, the
 ir Small Favor is similar to what they normally make on a reduced scal
 e. Others use it as an opportunity to explore new ideas or collaborate
  with a colleague. Though small in scale, the artworks created for thi
 s exhibition are huge in impact.\n\nFor more information visit http://
 phillytodo.com/events/small-favors-xv-expanding-the-field
DTSTART:20200306T160000Z
DTEND:20200426T220000Z
CATEGORIES:art, exhibition
LOCATION:The Clay Studio
WEBSITE:https://www.theclaystudio.org/exhibitions/small-favors-x-expan
 ding-the-field
URL:https://www.theclaystudio.org/exhibitions/small-favors-x-expanding
 -the-field
CONTACT:(215) 925-3453
ORGANIZER;CN="Bryan Chan":http://phillytodo.com/profile/BryanChan
ATTACH;FMTTYPE="image/jpeg":https://storage.ning.com/topology/rest/1.0
 /file/get/3870890275?profile=original
ATTENDEE;ROLE=REQ-PARTICIPANT;PARTSTAT=ACCEPTED;RSVP=TRUE;CN="Bryan Ch
 an":http://phillytodo.com/profile/BryanChan
END:VEVENT
END:VCALENDAR
