BEGIN:VCALENDAR
PRODID:NingEventWidget-v1
VERSION:2.0
METHOD:PUBLISH
BEGIN:VEVENT
UID:4320450:Event:56310
DTSTAMP:20260425T144250Z
SUMMARY:Small Business Saturday
DESCRIPTION:Shop small and shop local at over 50 small businesses to f
 ind something for everyone on your list as the neighborhood kicks off 
 the holidays season with Small Business Saturday on November 24! Spons
 ored by American Express, this day is dedicated to supporting local, i
 ndependently owned shops in the district.\nThe night will end with the
  annual tree lighting at Canal View Park at 5:30PM. Stick around for l
 ive performances, and keep an eye out for the big man himself!\n\nFor 
 more information visit http://phillytodo.com/events/small-business-sat
 urday
DTSTART:20181124T050000Z
DTEND:20181125T045900Z
CATEGORIES:holiday, shopping
LOCATION:Main Street Manayunk
WEBSITE:https://bit.ly/2OgS6iQ
URL:https://bit.ly/2OgS6iQ
CONTACT:2154829565
ORGANIZER;CN="Manayunk Development Corporation":http://phillytodo.com/
 profile/ManayunkDevelopmentCorporation
ATTACH;FMTTYPE="image/jpeg":http://storage.ning.com/topology/rest/1.0/
 file/get/3055016462?profile=original
ATTENDEE;ROLE=REQ-PARTICIPANT;PARTSTAT=ACCEPTED;RSVP=TRUE;CN="Manayunk
  Development Corporation":http://phillytodo.com/profile/ManayunkDevelo
 pmentCorporation
END:VEVENT
END:VCALENDAR
