BEGIN:VCALENDAR
PRODID:NingEventWidget-v1
VERSION:2.0
METHOD:PUBLISH
BEGIN:VEVENT
UID:4320450:Event:48218
DTSTAMP:20260425T132535Z
SUMMARY:Small Business Saturday/Manayunk Tree Lighting
DESCRIPTION:Kick off the holiday season with us when we #ShopSmall on 
 November 26! Various Manayunk businesses will be offering deals and di
 scounts for this very special day of shopping in your neighborhood. We
  will post participating businesses and their offers as they come in. 
  And the fun doesn't stop there! After a day of shopping, stick around
  for the lighting of our brand new 35-foot holiday tree in Canal View 
 Park! Warm up with hot chocolate and sweets, sing along with the choru
 s, and don't miss our special guest-- Santa Claus himself!\n\nFor more
  information visit http://phillytodo.com/events/small-business-saturda
 y-manayunk-tree-lighting
DTSTART:20161126T140000Z
DTEND:20161127T020000Z
CATEGORIES:special, event, holidays
LOCATION:Manayunk
WEBSITE:https://www.facebook.com/events/376843149373600/
URL:https://www.facebook.com/events/376843149373600/
CONTACT:
ORGANIZER;CN="Manayunk Development Corporation":http://phillytodo.com/
 profile/ManayunkDevelopmentCorporation
ATTACH;FMTTYPE="image/jpeg":http://storage.ning.com/topology/rest/1.0/
 file/get/3055001459?profile=original
ATTENDEE;ROLE=REQ-PARTICIPANT;PARTSTAT=ACCEPTED;RSVP=TRUE;CN="Manayunk
  Development Corporation":http://phillytodo.com/profile/ManayunkDevelo
 pmentCorporation
END:VEVENT
END:VCALENDAR
