BEGIN:VCALENDAR
PRODID:NingEventWidget-v1
VERSION:2.0
METHOD:PUBLISH
BEGIN:VEVENT
UID:4320450:Event:52092
DTSTAMP:20260425T130614Z
SUMMARY:Small Business Saturday in Chestnut Hill
DESCRIPTION:Join the Chestnut Hill community on Saturday, November 25 
 and support the locally owned and operated retailers during Small Busi
 ness Saturday. From independent boutiques and galleries, to family own
 ed homegood shops, local lifestyle and beauty experts, to chef-driven 
 restaurants and breweries – Chestnut Hill offers something for every
 one to enjoy during Small Business Saturday this holiday season.\n\nFo
 r more information visit http://phillytodo.com/events/small-business-s
 aturday-in-chestnut-hill
DTSTART:20171125T050000Z
DTEND:20171126T045900Z
CATEGORIES:local, small, businesses, dining, shopping, "&amp", breweri
 es
LOCATION:Chestnut Hill
WEBSITE:http://www.chestnuthillpa.com
URL:http://www.chestnuthillpa.com
CONTACT:
ORGANIZER:
ATTACH;FMTTYPE="image/jpeg":http://storage.ning.com/topology/rest/1.0/
 file/get/3055007873?profile=original
ATTENDEE;ROLE=REQ-PARTICIPANT;PARTSTAT=ACCEPTED;RSVP=TRUE;CN="Bryan Ch
 an":http://phillytodo.com/profile/BryanChan
END:VEVENT
END:VCALENDAR
