BEGIN:VCALENDAR
PRODID:NingEventWidget-v1
VERSION:2.0
METHOD:PUBLISH
BEGIN:VEVENT
UID:4320450:Event:38873
DTSTAMP:20260425T130708Z
SUMMARY:Small Business Saturday & Holidays in Manayunk
DESCRIPTION:Kick off your holiday shopping and shop small and local fo
 r Small Business Saturday in Manayunk. Participate in the passport pro
 gram by shopping amongst a variety of stores enjoying discounts, promo
 tions, and special events. Fill up your passport and you’ll have a c
 hance to win an American Express Gift Card by filling up your passport
 ! Don’t forget to visit the Manayunk.com table at Main and Cotton St
 reets for a detailed shopping map, giveaways, a letters to Santa stati
 on, and more! Here’s a line up for what’s going on around the town
  that day:\n11:00 am -- 5:00 pm: Small Business Saturday Events\n3:00 
 pm -- 5:00 pm: Music by More FM\n5:00 pm – 7:00 pm: Manayunk Tree Li
 ghting\n\nFor more information visit http://phillytodo.com/events/smal
 l-business-saturday-holidays-in-manayunk
DTSTART:20141129T160000Z
DTEND:20141130T000000Z
CATEGORIES:community, holiday, shopping, family
LOCATION:Main Street Manayunk
WEBSITE:http://www.manayunk.com
URL:http://www.manayunk.com
CONTACT:(215) 482-9565
ORGANIZER;CN="Manayunk Development Corporation":http://phillytodo.com/
 profile/ManayunkDevelopmentCorporation
ATTACH;FMTTYPE="image/jpeg":http://storage.ning.com/topology/rest/1.0/
 file/get/3054980938?profile=original
ATTENDEE;ROLE=REQ-PARTICIPANT;PARTSTAT=ACCEPTED;RSVP=TRUE;CN="Manayunk
  Development Corporation":http://phillytodo.com/profile/ManayunkDevelo
 pmentCorporation
END:VEVENT
END:VCALENDAR
