BEGIN:VCALENDAR
PRODID:NingEventWidget-v1
VERSION:2.0
METHOD:PUBLISH
BEGIN:VEVENT
UID:4320450:Event:18103
DTSTAMP:20260425T160213Z
SUMMARY:\"Slaying the Dragon\" Opera Workshop
DESCRIPTION:Music workshop for Michael Ching and Ellen Frankel's new o
 pera \"Slaying the Dragon\", which will make its world premiere June 2
 012 in Philadelphia with Center City Opera Theater. Get a first listen
  to the opera as members of CCOT's Young Artist Program sing excerpts 
 from the score.Saturday, September 17th, 8pm at Ethical Society of Phi
 ladelphiaSunday, September 18th, 3pm at Opera Delaware in WilmingtonTi
 ckets are $25 and can be purchased at OperaTheater.org\n\nFor more inf
 ormation visit http://phillytodo.com/events/slaying-the-dragon-opera-w
 orkshop
DTSTART:20110918T000000Z
DTEND:20110918T190000Z
CATEGORIES:opera, workshop
LOCATION:Ethical Society of Philadelphia
WEBSITE:
URL:
CONTACT:215-238-1555
ORGANIZER;CN=Eric:http://phillytodo.com/profile/Eric
ATTACH;FMTTYPE="image/jpeg":http://storage.ning.com/topology/rest/1.0/
 file/get/3054957858?profile=original
ATTENDEE;ROLE=REQ-PARTICIPANT;PARTSTAT=ACCEPTED;RSVP=TRUE;CN=Eric:http
 ://phillytodo.com/profile/Eric
END:VEVENT
END:VCALENDAR
