BEGIN:VCALENDAR
PRODID:NingEventWidget-v1
VERSION:2.0
METHOD:PUBLISH
BEGIN:VEVENT
UID:4320450:Event:52824
DTSTAMP:20260425T141125Z
SUMMARY:Skytoberfest
DESCRIPTION:Philadelphia’s tallest beer garden is celebrating the tr
 aditional German festival with the 2nd Annual SkyGarten Oktoberfest 
 on Thursday, September 28th and Friday, September 29th, featuring Germ
 an-inspired dishes and brews and a Liter Lift Competition! Guests will
  enjoy German specialty dishes 51 stories in the sky, including a Roa
 st Pork Platter ($12), boasting slow roasted pork, German potato sala
 d, braised red cabbage; Wurst Platter ($13), served with bratwurst, 
 bauernwurest, sauerkraut, and Kaesespaetzle (German Mac ’N Cheese),
  ($8) German spaetzle, caramelized onions, and emmentaler cheese. In t
 raditional Oktoberfest fashion, guests can PROST! with a pint of Hofbr
 auhaus Oktoberfest ($5) or test their endurance in a Liter Lift Compet
 ition. The competition will commence at 8 pm on Thursday and Friday. T
 he winner will receive $100 cash! Interested participants must signup 
 prior to the event. Email Jeff at jeff@skyphiladelphia.com. SkyGarten
  is open 5-10 pm on Thursday and 5-11 pm on Friday. \n\nFor more info
 rmation visit http://phillytodo.com/events/skytoberfest
DTSTART:20170929T000000Z
DTEND:20170930T030000Z
CATEGORIES:oktoberfest
LOCATION:Skygarten
WEBSITE:http://skygarten.com/
URL:http://skygarten.com/
CONTACT:215.557.7887
ORGANIZER:Skygarten
ATTACH;FMTTYPE="image/jpeg":http://storage.ning.com/topology/rest/1.0/
 file/get/3055009883?profile=original
ATTENDEE;ROLE=REQ-PARTICIPANT;PARTSTAT=ACCEPTED;RSVP=TRUE;CN="Punch Me
 dia":http://phillytodo.com/profile/PunchMedia
END:VEVENT
END:VCALENDAR
