BEGIN:VCALENDAR
PRODID:NingEventWidget-v1
VERSION:2.0
METHOD:PUBLISH
BEGIN:VEVENT
UID:4320450:Event:58719
DTSTAMP:20260425T114226Z
SUMMARY:Skyline Drive Corvette Show
DESCRIPTION:Vroom vroom! Don't miss the Skyline Drive Corvette Show re
 turning to the Berkshire Mall on Saturday, June 15 and Sunday, June 16
 . Stop by to check out the line-up of classic and custom Corvettes.\n\
 nFor more information visit http://phillytodo.com/events/skyline-drive
 -corvette-show
DTSTART:20190615T140000Z
DTEND:20190616T220000Z
CATEGORIES:corvette, show
LOCATION:Berkshire Mall
WEBSITE:http://www.berkshiremall.com
URL:http://www.berkshiremall.com
CONTACT:
ORGANIZER:Berkshire Mall
ATTACH;FMTTYPE="image/jpeg":
ATTENDEE;ROLE=REQ-PARTICIPANT;PARTSTAT=ACCEPTED;RSVP=TRUE;CN=CashmanAs
 soc:http://phillytodo.com/profile/CashmanAssoc
END:VEVENT
END:VCALENDAR
