BEGIN:VCALENDAR
PRODID:NingEventWidget-v1
VERSION:2.0
METHOD:PUBLISH
BEGIN:VEVENT
UID:4320450:Event:3723
DTSTAMP:20260425T150203Z
SUMMARY:Skippack Summertime Concert
DESCRIPTION:Free concert for all ages. Moonbounce for the kids. Bring 
 your picnic basket and blanket and enjoy the show!\n\nFor more informa
 tion visit http://phillytodo.com/events/skippack-summertime-concert-1
DTSTART:20110622T223000Z
DTEND:20110623T003000Z
CATEGORIES:concert
LOCATION:Skippack
WEBSITE:http://www.bestofskippack.com
URL:http://www.bestofskippack.com
CONTACT:
ORGANIZER;CN="Skippack Village":http://phillytodo.com/profile/Skippack
 Village554
ATTACH;FMTTYPE="image/jpeg":
ATTENDEE;ROLE=REQ-PARTICIPANT;PARTSTAT=ACCEPTED;RSVP=TRUE;CN="Skippack
  Village":http://phillytodo.com/profile/SkippackVillage554
END:VEVENT
END:VCALENDAR
