BEGIN:VCALENDAR
PRODID:NingEventWidget-v1
VERSION:2.0
METHOD:PUBLISH
BEGIN:VEVENT
UID:4320450:Event:3463
DTSTAMP:20260425T130546Z
SUMMARY:Skippack Continental Carshow
DESCRIPTION:Car show featuring American cars. Facepainting and childre
 n's character visit. Craft and food vendors around village.\n\nFor mor
 e information visit http://phillytodo.com/events/skippack-continental-
 carshow
DTSTART:20110605T150000Z
DTEND:20110605T210000Z
CATEGORIES:car, show
LOCATION:Skippack
WEBSITE:http://www.bestofskippack.com
URL:http://www.bestofskippack.com
CONTACT:610-584-6004
ORGANIZER;CN="Skippack Village":http://phillytodo.com/profile/Skippack
 Village554
ATTACH;FMTTYPE="image/jpeg":
ATTENDEE;ROLE=REQ-PARTICIPANT;PARTSTAT=ACCEPTED;RSVP=TRUE;CN="Skippack
  Village":http://phillytodo.com/profile/SkippackVillage554
END:VEVENT
END:VCALENDAR
