BEGIN:VCALENDAR
PRODID:NingEventWidget-v1
VERSION:2.0
METHOD:PUBLISH
BEGIN:VEVENT
UID:4320450:Event:48331
DTSTAMP:20260425T144759Z
SUMMARY:SKATE WITH SANTA every Saturday and Sunday through December 18
 th!
DESCRIPTION:Getting your picture taken with Santa at the mall is so te
 n years ago. Lace up those skates and get that family portrait on ice 
 with Blue Cross RiverRink Winterfest’s Skating Santa.\nFor a special
  photo on stable ground, sit atop the giant #visitphilly chair for a p
 hoto that can feature the entire family!\nSkating passes can purchased
  on-site or online. Select either the 1pm or 3pm session. Santa will b
 e on the ice from 1pm-5pm.\n\n\nFor more information visit http://phil
 lytodo.com/events/skate-with-santa-every-saturday-and-sunday-through-d
 ecember-18th
DTSTART:20161203T180000Z
DTEND:20161204T220000Z
CATEGORIES:kids, santa, christmas, holiday, ice, skating, fun, family
LOCATION:Blue Cross RiverRink WinterFest
WEBSITE:http://www.delawareriverwaterfront.com/footer/blue-cross-river
 rink-winterfest/events/skate-with-santa01
URL:http://www.delawareriverwaterfront.com/footer/blue-cross-riverrink
 -winterfest/events/skate-with-santa01
CONTACT:2159257465
ORGANIZER;CN="Delaware River Waterfront Corp.":http://phillytodo.com/p
 rofile/DelawareRiverWaterfrontCorp
ATTACH;FMTTYPE="image/jpeg":http://storage.ning.com/topology/rest/1.0/
 file/get/3054999002?profile=original
ATTENDEE;ROLE=REQ-PARTICIPANT;PARTSTAT=ACCEPTED;RSVP=TRUE;CN="Delaware
  River Waterfront Corp.":http://phillytodo.com/profile/DelawareRiverWa
 terfrontCorp
END:VEVENT
END:VCALENDAR
