BEGIN:VCALENDAR
PRODID:NingEventWidget-v1
VERSION:2.0
METHOD:PUBLISH
BEGIN:VEVENT
UID:4320450:Event:34390
DTSTAMP:20260425T144446Z
SUMMARY:SKAI BLUE MEDIA & KNIT WIT Sip n' Style
DESCRIPTION:Meet and mingle with local designers LOBO MAU & NEW HISTOR
 IES JEWELRY\nSip some bubbly and receive one on one styling tips & adv
 ice from celeb stylist ADE SAMUEL.\nFormerly editing the pages of W Ma
 gazine and Teen Vogue, Ade is now on the wardrobe styling team for Hol
 lywood A-Listers like Nicole Richie, Rosie Huntington Whiteley, Miley 
 Cyrus, Christina Aguilera, Alicia Keys and more.\nFeaturing special gu
 est DJ ZEKE THOMAS\n\nFor more information visit http://phillytodo.com
 /events/skai-blue-media-knit-wit-sip-n-style
DTSTART:20130920T220000Z
DTEND:20130921T000000Z
CATEGORIES:social, media, mix, and, mingle
LOCATION:Knit Wit
WEBSITE:http://www.rsvp@skaibluemedia.com
URL:http://www.rsvp@skaibluemedia.com
CONTACT:215-625-7988
ORGANIZER:Skai Blue Media & Knit Wit
ATTACH;FMTTYPE="image/jpeg":http://storage.ning.com/topology/rest/1.0/
 file/get/3054967275?profile=original
ATTENDEE;ROLE=REQ-PARTICIPANT;PARTSTAT=ACCEPTED;RSVP=TRUE;CN="Skai Blu
 e Media":http://phillytodo.com/profile/SkaiBlueMedia
END:VEVENT
END:VCALENDAR
