BEGIN:VCALENDAR
PRODID:NingEventWidget-v1
VERSION:2.0
METHOD:PUBLISH
BEGIN:VEVENT
UID:4320450:Event:31556
DTSTAMP:20260425T100119Z
SUMMARY:'Sittin' Back' with Slo 'n Shakey
DESCRIPTION:If your into Jazz & are yet to check out Ortlieb's do so!Â
   Better yet, do so whileÂ  the house band \"Slo 'n Shakey\" are holdi
 ng it down.Â  I have had the pleasure of hanging out with them on and 
 off stages and holy schnickies are they talented.Â  If I could play th
 e harmonica and/or guitar as well as they do I would never put them do
 wn.Â \nÂ  A great venue, with an amazing band, & phenomenal food & dri
 nks to boot!\n\nFor more information visit http://phillytodo.com/event
 s/sittin-back-with-slo-n-shakey
DTSTART:20130405T010000Z
DTEND:20130405T040000Z
CATEGORIES:live, jazz
LOCATION:Ortlieb's Lounge
WEBSITE:http://www.ortliebslounge.com/
URL:http://www.ortliebslounge.com/
CONTACT:(267) 324-3348
ORGANIZER;CN="Adam Rybarczyk @FoodPhreak":http://phillytodo.com/profil
 e/AdamRybarczyk
ATTACH;FMTTYPE="image/jpeg":
ATTENDEE;ROLE=REQ-PARTICIPANT;PARTSTAT=ACCEPTED;RSVP=TRUE;CN="Adam Ryb
 arczyk @FoodPhreak":http://phillytodo.com/profile/AdamRybarczyk
END:VEVENT
END:VCALENDAR
