BEGIN:VCALENDAR
PRODID:NingEventWidget-v1
VERSION:2.0
METHOD:PUBLISH
BEGIN:VEVENT
UID:4320450:Event:33346
DTSTAMP:20260425T142713Z
SUMMARY:Site Line Clearing in Wissahickon Park
DESCRIPTION:Volunteers will hike through a designated trail route (pre
 ferably a loop) with loppers, hand snips, and hand saws, removing any 
 vegetative growth that is hindering the trail corridor. FOW will also 
 supply a variety of digging tools to tackle any small maintenance proj
 ects found along the way. This is a great opportunity to see the park 
 and gain some trail and plant knowledge.\nPlease contact Volunteer Coo
 rdinator Eric D. Falk at falk@fow.org with any questions  Volunteers a
 re encouraged to bike, hike or carpool to work days.  Registration is
  not required but is recommended in order to be notified in case of an
 y changes due to weather.  Workdays will be cancelled in the event of
  heavy rain or snow. Refer to the FOW Facebook page or the FOW work 
 day page for updates.\n\nFor more information visit http://phillytodo.
 com/events/site-line-clearing-in-wissahickon-park
DTSTART:20130731T130000Z
DTEND:20130731T170000Z
CATEGORIES:outdoor, volunteer, opportunity
LOCATION:Houston Playground, Wissahickon Valley Park
WEBSITE:https://maps.google.com/maps/myplaces?ll=40.068784,-75.231649&
 spn=0.012299,0.01929&ctz=240&t=m&z=16&iwloc=A
URL:https://maps.google.com/maps/myplaces?ll=40.068784,-75.231649&spn=
 0.012299,0.01929&ctz=240&t=m&z=16&iwloc=A
CONTACT:215-247-0417 x107
ORGANIZER;CN="Friends of the Wissahickon":http://phillytodo.com/profil
 e/FriendsoftheWissahickon
ATTACH;FMTTYPE="image/jpeg":http://storage.ning.com/topology/rest/1.0/
 file/get/3054966580?profile=original
ATTENDEE;ROLE=REQ-PARTICIPANT;PARTSTAT=ACCEPTED;RSVP=TRUE;CN="Friends 
 of the Wissahickon":http://phillytodo.com/profile/FriendsoftheWissahic
 kon
END:VEVENT
END:VCALENDAR
