BEGIN:VCALENDAR
PRODID:NingEventWidget-v1
VERSION:2.0
METHOD:PUBLISH
BEGIN:VEVENT
UID:4320450:Event:168207
DTSTAMP:20260425T142834Z
SUMMARY:Sisterly Love Food Fair
DESCRIPTION:East Market is proud to host the “Sisterly Love Citywide
  Food Fair,” a traveling holiday food market brought to you by the l
 eading female entrepreneurs of Philadelphia’s hospitality scene.\n\n
 For more information visit http://phillytodo.com/events/sisterly-love-
 food-fair
DTSTART:20210403T160000Z
DTEND:20210403T200000Z
CATEGORIES:fair
LOCATION:East Market
WEBSITE:
URL:
CONTACT:7328508272
ORGANIZER;CN=CashmanAssoc:http://phillytodo.com/profile/CashmanAssoc
ATTACH;FMTTYPE="image/jpeg":https://storage.ning.com/topology/rest/1.0
 /file/get/8719435899?profile=original
ATTENDEE;ROLE=REQ-PARTICIPANT;PARTSTAT=ACCEPTED;RSVP=TRUE;CN=CashmanAs
 soc:http://phillytodo.com/profile/CashmanAssoc
END:VEVENT
END:VCALENDAR
