BEGIN:VCALENDAR
PRODID:NingEventWidget-v1
VERSION:2.0
METHOD:PUBLISH
BEGIN:VEVENT
UID:4320450:Event:819
DTSTAMP:20260425T130621Z
SUMMARY:\"SIR ROD\" Sweethearts Saturday @ McStew's Irish Sports Pub
DESCRIPTION:LADIES GRAB YOUR GUYS......GUYS SURPRISE YOUR LADY!!\nThis
  is a VALENTINE's WEEKEND event you won't want to miss!!!\nJoin us @ M
 cStew's on Sat. Feb 13th for \"SWEETHEARTS Saturday w/ SIR ROD, The UL
 TIMATE in Rod Stewart Tribute Bands.....And ONLY a $5.00 Cover Charge.
 .....Some places charge upto $20.00 Cover, but @ McStew's it's ONLY $5
 .00.......\n\nJust a little information on \"SIR ROD\" :\n\nTommy Edwa
 rd as SIR ROD STEWART is in it's 14th year running. Tommy Edward has c
 aptured the wild hair, the sweet soulful raspy voice and the body lang
 uage of the real Rod Stewart himself. Combining the image of Rod Stewa
 rt with contests, sing-alongs, fans onstage, ballons, freebees, family
  photos, costume changes, and a great band, Tommy Edward wins over the
  packed houses every night. \"I want every fan to say they saw a great
  show and that they will come back. And they always do.\"\n\nTommy Edw
 ard as Sir Rod Stewart features a rockin' band. Harry Marion is bangin
  on the skins, with a green British Gretch drum set. His drum solo on 
 Losin You is sceamin-standing -o!. Marc Harper, the newest member, hai
 ls from Los Angeleses on Les Paul and Stratocaster guitar.Marc brings 
 the wailin' \"Van Halen\" West Coast style to the act . Melissa Rose i
 s a hot keyboardist that sings and fronts the cover set which is not R
 od Stewart songs. Her high energy makes this act a complete night of e
 ntertainment - 2 sets of Rod Stewart and a set of party rock featuring
  songs from: U2,Kings of Leon,K.T.Olson,Tina Turner, ACDC, Joan Jett, 
 Sheryl Crowe, Brian Adams, Tom Petty, Melissa Etheridge, Aretha, and J
 ourney. Melissa Rose is hot and makes the act a wonderful evening of a
 ction packed showmanship\n\n\nThe following are JUST A FEW songs from 
 the Set List:\nTonight I'm Yours,Hot Legs,Every Picture Tells a Story\
 nYou're in my Heart,You Wear It Well,Forever Young, & Stay With Me\n\n
 The Party Rock Set (featuring Melissa Rose):\nCome to my Window,Cherry
  Tree,I Love Rock and Roll\nI Want You To Want Me,Proud Mary,Sweet Car
 oline & Bobby Mcgee\n\nThis is a SHOW you will all enjoy, jump back in
  time for a night and Party with \"SIR ROD\"\n\nFor more information v
 isit http://phillytodo.com/events/sir-rod-sweethearts-saturday
DTSTART:20100214T030000Z
DTEND:20100214T090000Z
CATEGORIES:"valentine's", weekend, show
LOCATION:McStew's Irish Sports Pub
WEBSITE:http://www.facebook.com/mcstewsirishsports pub
URL:http://www.facebook.com/mcstewsirishsports pub
CONTACT:215-949-9570
ORGANIZER;CN="Mike McMaster":http://phillytodo.com/profile/MikeMcMaste
 r
ATTACH;FMTTYPE="image/jpeg":http://storage.ning.com/topology/rest/1.0/
 file/get/3054944543?profile=original
ATTENDEE;ROLE=REQ-PARTICIPANT;PARTSTAT=ACCEPTED;RSVP=TRUE;CN="Mike McM
 aster":http://phillytodo.com/profile/MikeMcMaster
END:VEVENT
END:VCALENDAR
