BEGIN:VCALENDAR
PRODID:NingEventWidget-v1
VERSION:2.0
METHOD:PUBLISH
BEGIN:VEVENT
UID:4320450:Event:18809
DTSTAMP:20260425T160751Z
SUMMARY:Single and Looking Speed Dating
DESCRIPTION:Come out and play this Wednesday, October 26th, with Speed
  Date Philadelphia! Join us at Tavern 222 and connect with outgoing, a
 dventuresome singles 24-37 eager to meet new people like yourself!  W
 hile indulging in complimentary appetizers and drink specials, you wil
 l go on a series of “mini” dates with eight or more individuals in
  this laidback, private setting.  Satisfaction guaranteed, or your ne
 xt event is on us! For more information, visit our website and registe
 r for this and future events!\n \n\nFor more information visit http:/
 /phillytodo.com/events/single-and-looking-speed-dating
DTSTART:20111026T230000Z
DTEND:20111027T010000Z
CATEGORIES:speed, dating, event
LOCATION:Speed Dating Event
WEBSITE:http://www.speeddatephiladelphia.com/main/index.php?ap=mng_cou
 pon&id=4894
URL:http://www.speeddatephiladelphia.com/main/index.php?ap=mng_coupon&
 id=4894
CONTACT:
ORGANIZER:Speed Date Philadelphia
ATTACH;FMTTYPE="image/jpeg":http://storage.ning.com/topology/rest/1.0/
 file/get/3054954784?profile=original
ATTENDEE;ROLE=REQ-PARTICIPANT;PARTSTAT=ACCEPTED;RSVP=TRUE;CN="Rachel L
 owe":http://phillytodo.com/profile/RachelLowe
END:VEVENT
END:VCALENDAR
