BEGIN:VCALENDAR
PRODID:NingEventWidget-v1
VERSION:2.0
METHOD:PUBLISH
BEGIN:VEVENT
UID:4320450:Event:54720
DTSTAMP:20260425T113257Z
SUMMARY:Silent Disco
DESCRIPTION:Grab a pair of headphones as you walk in and enter our Sil
 ent Disco party! Join us for this truly unique experience. Fully immer
 se yourself into the music and dance the night away!\nEvent starts at 
 9 PM and must be 21+.\n\nFor more information visit http://phillytodo.
 com/events/silent-disco-2
DTSTART:20180203T020000Z
DTEND:20180203T060000Z
CATEGORIES:music, party
LOCATION:XFINITY Live! Philadelphia
WEBSITE:http://www.xfinitylive.com/entertainment/event/11798
URL:http://www.xfinitylive.com/entertainment/event/11798
CONTACT:
ORGANIZER;CN="XFINITY Live! Philadelphia":http://phillytodo.com/profil
 e/XFINITYLivePhiladelphia
ATTACH;FMTTYPE="image/jpeg":http://storage.ning.com/topology/rest/1.0/
 file/get/3055010653?profile=original
ATTENDEE;ROLE=REQ-PARTICIPANT;PARTSTAT=ACCEPTED;RSVP=TRUE;CN="XFINITY 
 Live! Philadelphia":http://phillytodo.com/profile/XFINITYLivePhiladelp
 hia
END:VEVENT
END:VCALENDAR
