BEGIN:VCALENDAR
PRODID:NingEventWidget-v1
VERSION:2.0
METHOD:PUBLISH
BEGIN:VEVENT
UID:4320450:Event:848
DTSTAMP:20260425T144409Z
SUMMARY:Show Us What You Got Party
DESCRIPTION:\n\n\n\nFor more information visit http://phillytodo.com/e
 vents/show-us-what-you-got-party
DTSTART:20100122T210000Z
DTEND:20100123T050000Z
CATEGORIES:party
LOCATION:Club Polaris (Starlight Ballrom)
WEBSITE:
URL:
CONTACT:
ORGANIZER:S.T.O. Productionz
ATTACH;FMTTYPE="image/jpeg":
ATTENDEE;ROLE=REQ-PARTICIPANT;PARTSTAT=ACCEPTED;RSVP=TRUE;CN="Dee Mill
 er":http://phillytodo.com/profile/DeeMiller
END:VEVENT
END:VCALENDAR
