BEGIN:VCALENDAR
PRODID:NingEventWidget-v1
VERSION:2.0
METHOD:PUBLISH
BEGIN:VEVENT
UID:4320450:Event:40102
DTSTAMP:20260425T173501Z
SUMMARY:Shop Til You Drop!
DESCRIPTION:Give to a great cause and support your favorite local Phil
 adelphia shops all in one fabulous night! The night will kick off with
  a champagne toast at Joan Shepp, followed by a shopping spree at sele
 ct stores on Chestnut Street, all ending with a post-event at the Cont
 inental Midtown. A portion of all proceeds will support Donors Are Her
 oes, making your purchases a little more special. Proceeds from this e
 vent will help fund public education and awareness programs to support
  organ and tissue donation and transplantation. So come on out and sho
 p til you drop!\n\nAbout Donors Are Heroes\nOrgan Donors are Heroes, f
 ounded in 2001, is a committed group of volunteers supporting the Gift
  of Life Donor Program and its charitable supporting organization, Tra
 nsplant Foundation. Its mission is to raise public awareness around th
 e importance of becoming an organ and tissue donor and to dispel the c
 oncerns and myths surrounding this process. To purchase tickets for TH
 E Party or for more information please visit www.donorsareheroesthepar
 ty.com, “like” them on Facebook www.facebook.com/donorsareheroes o
 r follow them on Twitter @DonorsAreHeroes.\n \nAbout Gift of Life Don
 or Program\nGift of Life Donor Program is the non-profit organ and tis
 sue donor program serving the eastern half of Pennsylvania, southern N
 ew Jersey, and Delaware. Since its founding in 1974, Gift of Life has 
 served as the link between donors and patients awaiting life-saving tr
 ansplants, coordinating more than 35,000 organ transplants and over 50
 0,000 tissue transplants. For more information on organ and tissue don
 ation please visit www.donors1.org, “like” them on Facebook at www
 .facebook.com/donors1 or follow them on Twitter @Donors1.  \n\nFor m
 ore information visit http://phillytodo.com/events/shop-til-you-drop
DTSTART:20150304T223000Z
DTEND:20150305T010000Z
CATEGORIES:fundraiser
LOCATION:Select shops on Chestnut Street, including Knit Wit, Joan She
 pp, Beans Beauty Store and Salon, Duke & Winston, Commonwealth Prosper
 , Rittenhouse Sports Specialties, and South Moon Under.
WEBSITE:http://donorsareheroestheparty.com
URL:http://donorsareheroestheparty.com
CONTACT:215-557-8090 ext: 1128
ORGANIZER:Donors Are Heroes
ATTACH;FMTTYPE="image/jpeg":http://storage.ning.com/topology/rest/1.0/
 file/get/3054987518?profile=original
ATTENDEE;ROLE=REQ-PARTICIPANT;PARTSTAT=ACCEPTED;RSVP=TRUE;CN=CashmanAs
 soc:http://phillytodo.com/profile/CashmanAssoc
END:VEVENT
END:VCALENDAR
