BEGIN:VCALENDAR
PRODID:NingEventWidget-v1
VERSION:2.0
METHOD:PUBLISH
BEGIN:VEVENT
UID:4320450:Event:36427
DTSTAMP:20260425T173947Z
SUMMARY:Shop for a Cause: Monkey and Elephant at Madewell
DESCRIPTION:The Monkey & The Elephant and Madewell are collaborating o
 n a shopping event you don’t want to miss! On Thursday, April 24th, 
 from 6 to 8pm, join us for drinks, discounts, and of course, delicious
  coffee.Madewell is generously offering a 20% discount to shoppers on 
 all purchases over $120. The event is open to the general public, so p
 lease pass this on to anyone you know who loves to shop or loves to he
 lp a great cause.The Monkey & The Elephant is a non-profit coffee shop
  offering employment, job and life skills training to former foster yo
 uth, all while building community engagement. Currently, The Monkey an
 d Elephant Cafe is operating as a pop-up shop at Impact Hub in Norther
 n Liberties. With your help, we hope to secure a brick and mortar spac
 e before year's end.\n\nFor more information visit http://phillytodo.c
 om/events/shop-for-a-cause-monkey-and-elephant-at-madewell
DTSTART:20140424T220000Z
DTEND:20140425T000000Z
CATEGORIES:fundraiser
LOCATION:Madewell
WEBSITE:https://www.facebook.com/events/1390529851227306/
URL:https://www.facebook.com/events/1390529851227306/
CONTACT:
ORGANIZER;CN="Hilary Young":http://phillytodo.com/profile/HilaryYoung
ATTACH;FMTTYPE="image/jpeg":
ATTENDEE;ROLE=REQ-PARTICIPANT;PARTSTAT=ACCEPTED;RSVP=TRUE;CN="Hilary Y
 oung":http://phillytodo.com/profile/HilaryYoung
END:VEVENT
END:VCALENDAR
